BEGIN:VCALENDAR
VERSION:2.0
PRODID:-//Gonne - ECPv6.15.1.1//NONSGML v1.0//EN
CALSCALE:GREGORIAN
METHOD:PUBLISH
X-WR-CALNAME:Gonne
X-ORIGINAL-URL:https://gonne.com.br
X-WR-CALDESC:Eventos para Gonne
REFRESH-INTERVAL;VALUE=DURATION:PT1H
X-Robots-Tag:noindex
X-PUBLISHED-TTL:PT1H
BEGIN:VTIMEZONE
TZID:UTC
BEGIN:STANDARD
TZOFFSETFROM:+0000
TZOFFSETTO:+0000
TZNAME:UTC
DTSTART:20250101T000000
END:STANDARD
END:VTIMEZONE
BEGIN:VEVENT
DTSTART;TZID=UTC:20250423T190000
DTEND;TZID=UTC:20250423T210000
DTSTAMP:20260424T141408
CREATED:20251128T170804Z
LAST-MODIFIED:20251128T170804Z
UID:4778-1745434800-1745442000@gonne.com.br
SUMMARY:Intercities RCC
DESCRIPTION:Salvador\, Belém e Recife foram conectadas simultaneamente neste evento único promovido pelo Grupo GONNE\, reunindo especialistas de todo o país para discutir os avanços no tratamento dos tumores de carcinoma renal. \nUm dia de troca de experiências\, ciência e conexão!
URL:https://gonne.com.br/agenda/intercities-rcc/
LOCATION:Bahia
ATTACH;FMTTYPE=image/png:https://gonne.com.br/wp-content/uploads/2025/06/INTERCITIES-1080.png
END:VEVENT
BEGIN:VEVENT
DTSTART;TZID=UTC:20250426T080000
DTEND;TZID=UTC:20250426T180000
DTSTAMP:20260424T141408
CREATED:20251128T150244Z
LAST-MODIFIED:20251128T150244Z
UID:4776-1745654400-1745690400@gonne.com.br
SUMMARY:II GYN GONNE
DESCRIPTION:O II GYN GONNE\, Coordenado em parceria com Dra. Ana Carolina Branco\, feito pela segunda vez em Recife apresentou os melhores especialistas e temas sobre tumores ginecológicos.
URL:https://gonne.com.br/agenda/ii-gyn-gonne-2/
LOCATION:Novotel Recife Marina\, R. Santa Rita\, 46 - Pier\, Recife - PE\, Recife\, Pernambuco\, Brazil
ATTACH;FMTTYPE=image/png:https://gonne.com.br/wp-content/uploads/2025/04/gun-1080-1080.png
END:VEVENT
BEGIN:VEVENT
DTSTART;TZID=UTC:20250523T080000
DTEND;TZID=UTC:20250523T183000
DTSTAMP:20260424T141408
CREATED:20250515T203132Z
LAST-MODIFIED:20250515T203132Z
UID:4493-1747987200-1748025000@gonne.com.br
SUMMARY:IV LUNG GONNE
DESCRIPTION:O principal encontro de oncologia torácica promovido pelo GONNE\, que acontecerá em Salvador! \nUm evento imperdível com foco em inovação\, prática clínica e os mais recentes avanços no tratamento do câncer de pulmão. Reuniremos grandes especialistas nacionais e internacionais para debates de alto nível\, estudos de caso\, mesas interativas e muito networking qualificado.
URL:https://gonne.com.br/agenda/iv-lung-gonne/
LOCATION:Wish Hotel\, Av. Sete de Setembro\, 1537 - Dois de Julho\, Salvador - BA\, 40060-002\, Salvador\, Bahia\, Brazil
ATTACH;FMTTYPE=image/png:https://gonne.com.br/wp-content/uploads/2025/05/lung-1080x1080-1.png
END:VEVENT
BEGIN:VEVENT
DTSTART;TZID=UTC:20250617T190000
DTEND;TZID=UTC:20250617T210000
DTSTAMP:20260424T141408
CREATED:20251128T174352Z
LAST-MODIFIED:20251128T174352Z
UID:4780-1750186800-1750194000@gonne.com.br
SUMMARY:PÓS-ASCO 2025
DESCRIPTION:Nosso evento anual da “Pós-ASCO” reuniu os temas de diversas áreas da Oncologia mais importantes que foram discutidos no maior congresso de oncologia do mundo pelos melhores especialistas de oncologia clínica presentes na ASCO ANUAL MEETING 2025\, apresentando tratamentos e insights inovadores em diversas especialidades!
URL:https://gonne.com.br/agenda/pos-asco-2025/
LOCATION:Bahia
ATTACH;FMTTYPE=image/png:https://gonne.com.br/wp-content/uploads/2025/07/asco-2025-1080x1080-1.png
END:VEVENT
BEGIN:VEVENT
DTSTART;TZID=UTC:20250820T080000
DTEND;TZID=UTC:20250820T170000
DTSTAMP:20260424T141408
CREATED:20251128T175904Z
LAST-MODIFIED:20251128T175904Z
UID:4782-1755676800-1755709200@gonne.com.br
SUMMARY:URO-ONCOLOGY EXPERT MINDS - RECIFE
DESCRIPTION:Reunimos 3 especialistas da Oncologia para discutir sobre Câncer de Próstata Sensível a Castração Metastático com convidados da área médica! \nO primeiro de 2 eventos\, em parceria com a Astellas\, abordamos especificamente este tema e tivemos a honra em atualizar esses médicos e alcançar nosso objetivo de trazer a educação médica continuada.
URL:https://gonne.com.br/agenda/uro-oncology-expert-minds-recife/
LOCATION:Enotteque Wine Living\, Recife\, PE
ATTACH;FMTTYPE=image/jpeg:https://gonne.com.br/wp-content/uploads/2025/11/1080-uro.jpg
END:VEVENT
BEGIN:VEVENT
DTSTART;TZID=UTC:20250919T143000
DTEND;TZID=UTC:20250920T170000
DTSTAMP:20260424T141408
CREATED:20251128T183922Z
LAST-MODIFIED:20251128T183922Z
UID:4785-1758292200-1758387600@gonne.com.br
SUMMARY:V MAMA GONNE & I JORNADA BAIANA DE MASTOLOGIA
DESCRIPTION:O V Simpósio Mama GONNE em sua quinta edição com ainda mais relevância\, agora em uma parceria inédita com a SBM – Regional Bahia\, unindo forças na realização da I Jornada Baiana de Mastologia. Este grande encontro da oncologia mamária foi realizado em Ilhéus – Bahia\, promovendo a educação médica continuada no interior do estado!
URL:https://gonne.com.br/agenda/v-mama-gonne-i-jornada-baiana-de-mastologia/
LOCATION:Ilhéus – BA
ATTACH;FMTTYPE=image/png:https://gonne.com.br/wp-content/uploads/2025/11/mama-site.png
END:VEVENT
BEGIN:VEVENT
DTSTART;TZID=UTC:20251024T140000
DTEND;TZID=UTC:20251024T173000
DTSTAMP:20260424T141408
CREATED:20251128T185448Z
LAST-MODIFIED:20251128T190812Z
UID:4788-1761314400-1761327000@gonne.com.br
SUMMARY:SKIN GONNE INTERACTIVE
DESCRIPTION:Um evento inédito\, inovador e dinâmico! Além das atualizações científicas e discussões da prática clínica sobre câncer de pele\, você vai viver uma experiência única com desafios em equipe e mais! \nUma forma leve de compartilhar conhecimento e trocar experiências.
URL:https://gonne.com.br/agenda/skin-gonne-interactive/
LOCATION:Hotel Mercure Salvador Pituba\, Salvador\, Bahia
ATTACH;FMTTYPE=image/jpeg:https://gonne.com.br/wp-content/uploads/2025/11/skin-save-test-1.jpg
END:VEVENT
BEGIN:VEVENT
DTSTART;TZID=UTC:20251031T140000
DTEND;TZID=UTC:20251101T123000
DTSTAMP:20260424T141408
CREATED:20251128T191513Z
LAST-MODIFIED:20251128T191513Z
UID:4791-1761919200-1762000200@gonne.com.br
SUMMARY:III GI GONNE
DESCRIPTION:Realizado pelo GONNE\, o evento trouxe dois dias de trocas científicas\, integração e conhecimento\, reunindo grandes especialistas e debates sobre os avanços que estão transformando o cuidado com o paciente oncológico.
URL:https://gonne.com.br/agenda/iii-gi-gonne/
LOCATION:Hotel Mercure Rio Vermelho\, Salvador\, Bahia
ATTACH;FMTTYPE=image/png:https://gonne.com.br/wp-content/uploads/2025/11/III-GI-GONNE-LOGO.png
END:VEVENT
BEGIN:VEVENT
DTSTART;TZID=UTC:20251112T193000
DTEND;TZID=UTC:20251112T210000
DTSTAMP:20260424T141408
CREATED:20251128T191834Z
LAST-MODIFIED:20251201T175831Z
UID:4794-1762975800-1762981200@gonne.com.br
SUMMARY:URO-ONCOLOGY EXPERT MINDS - SALVADOR
DESCRIPTION:Reunimos especialistas da Oncologia e Urologia para discutir sobre Câncer de Próstata Sensível a Castração Não Metastático com convidados da área médica! \nO segundo evento no ano\, em parceria com a Astellas\, abordamos especificamente este tema e tivemos a honra em atualizar esses médicos e alcançar nosso objetivo de trazer a educação médica continuada.
URL:https://gonne.com.br/agenda/uro-oncology-expert-minds-salvador/
LOCATION:Restaurante Racletto\, Salvador\, Bahia
ATTACH;FMTTYPE=image/jpeg:https://gonne.com.br/wp-content/uploads/2025/11/1080-uro.jpg
END:VEVENT
BEGIN:VEVENT
DTSTART;TZID=UTC:20251201T193000
DTEND;TZID=UTC:20251201T210000
DTSTAMP:20260424T141408
CREATED:20251128T142126Z
LAST-MODIFIED:20251128T142126Z
UID:4772-1764617400-1764622800@gonne.com.br
SUMMARY:GI INTERCITY
DESCRIPTION:Um evento GONNE com foco em tumores gastrointestinais\, realizado em duas praças diferentes. \nReunimos especialistas da área para discutir sobre a jornada no tratamento de tumores neuroendócrinos.
URL:https://gonne.com.br/agenda/gi-intercity/
LOCATION:Bahia
ATTACH;FMTTYPE=image/png:https://gonne.com.br/wp-content/uploads/2025/11/GI-INTERCITY-Salvador-2-copiar.png
END:VEVENT
BEGIN:VEVENT
DTSTART;TZID=UTC:20260306T080000
DTEND;TZID=UTC:20260307T170000
DTSTAMP:20260424T141408
CREATED:20260219T180621Z
LAST-MODIFIED:20260219T180621Z
UID:4811-1772784000-1772902800@gonne.com.br
SUMMARY:III GU GONNE
DESCRIPTION:Um dos maiores sucessos do GONNE\, o III Simpósio de Uro-Oncologia GONNE vem para inovar!\nNos dias 6 e 7 de março vamos mais a fundo da uro-oncologia\, desta vez explorando a medicina de precisão\, robótica e a importância da inteligência artificial na área médica. \nParticipe e venha inovar com o GONNE!
URL:https://gonne.com.br/agenda/iii-gu-gonne/
LOCATION:Wish Hotel\, Av. Sete de Setembro\, 1537 - Dois de Julho\, Salvador - BA\, 40060-002\, Salvador\, Bahia\, Brazil
ATTACH;FMTTYPE=image/jpeg:https://gonne.com.br/wp-content/uploads/2026/02/1080-logo.jpg
END:VEVENT
END:VCALENDAR