BEGIN:VCALENDAR
VERSION:2.0
PRODID:-//Gonne - ECPv6.15.1.1//NONSGML v1.0//EN
CALSCALE:GREGORIAN
METHOD:PUBLISH
X-WR-CALNAME:Gonne
X-ORIGINAL-URL:https://gonne.com.br
X-WR-CALDESC:Eventos para Gonne
REFRESH-INTERVAL;VALUE=DURATION:PT1H
X-Robots-Tag:noindex
X-PUBLISHED-TTL:PT1H
BEGIN:VTIMEZONE
TZID:UTC
BEGIN:STANDARD
TZOFFSETFROM:+0000
TZOFFSETTO:+0000
TZNAME:UTC
DTSTART:20240101T000000
END:STANDARD
END:VTIMEZONE
BEGIN:VEVENT
DTSTART;VALUE=DATE:20241122
DTEND;VALUE=DATE:20241124
DTSTAMP:20260424T213705
CREATED:20241112T155213Z
LAST-MODIFIED:20241114T114846Z
UID:4327-1732233600-1732406399@gonne.com.br
SUMMARY:IV Simpósio Mama Gonne
DESCRIPTION:O IV Simpósio Mama GONNE é um evento científico já consolidado na área da Oncologia na região Norte e Nordeste. Sua primeira edição ocorreu no formato online e a partir do segundo ano passou a ser realizado em formato presencial.\nO evento tem como objetivo conectar médicos oncologistas\, mastologistas\,\nradio-oncologistas\, patologistas e oncogeneticista do Norte e Nordeste com interesse no assunto em um encontro presencial\, para discussão das mais recentes novidades do tratamento desse grupo de patologias. \nNovotel Salvador Rio Vermelho\nRua Monte Conselho 505\, Rio Vermelho\, Salvador – BA \n————————————————————————– \n\nProgramação MAMA GONNE  \nSexta-feira\, 22 de Novembro de 2024 \n14:00 – 14:10 l Abertura\nDra. Débora Gaudencio (BA) \nBloco 1\nChair: Dr. Tufi Hassan (BA) \n14:10 – 14:25 l Tratamento neoadjuvante (nos diferentes subtipos) – quando indicar e qual objetivo\nDra. Thaiana Santana (SE) \n14:25 – 14:40 l Abordagem cirúrgica das mamas e axilas – atualizações\nDra. Patrícia Lopes (BA) \n14:40 – 14:55 l Radioterapia adjuvante em 2024 – atualizações.\nDr. Diego Rezende (PE) \n14:55 – 15:15 l Discussão\nDr. Tufi Hassan (BA)\nDra. Thaiana Santana (SE) \nDra. Patrícia Lopes (BA) \nDr. Diego Rezende (PE) \n15:15 – 15:45 l Discussão de casos clínicos\nApresentador:\nDr. Dyego Nunes (BA) \nDebatedores:\nDra. Daniela Camarotti (BA) \nDra. Elisângela Carvalho (BA) \nDra. Priscila Alves (BA) \nBloco 2\nChair: Dra. Mayana Lopes Navarro (BA) \n15:45 – 16:00 l Medicina de Precisão – Ferramentas prognósticas e preditivas na prática clínica\nDr. Eduardo Cronemberger (CE) \n16:00 – 16:15 l Tratamento adjuvante tumores triplo negativo pós neoadjuvância\nDr. William Fuzita (AM) \n16:15 – 16:30 l Tratamento endócrino adjuvante tumores luminais\nDr. Sandro Cavallero (PA) \n16:30 – 17:00 l KISQALI em POPULAÇÕES DESAFIADORAS do Câncer de Mama Avançado RH+/HER2-\nSimpósio Satélite Novartis\nDr. Jorge Leal (BA) \n17:00 – 17:15 l Desafios do patologista na oncologia mamária – onde podemos errar? exemplos ilustrativos da vida real\nDra. Juliana Freitas (BA) \n17:15 – 17:35 l Discussão\nDra. Mayana Lopes Navarro (BA)\nDr. Eduardo Cronemberger (CE) \nDr. William Fuzita (AM) \nDr. Sandro Cavallero (PA)\nDr. Jorge Leal (BA)\nDra. Juliana Freitas (BA) \n18:05 l Encerramento\nDr. Sandro Cavallero (PA) \n————————————————————————– \nSábado\, 23 de Novembro de 2024 \n08:20 l Abertura\nDr. Sandro Cavallero (PA) \nBloco 3\nChair: Dra. Marilia Sampaio (BA) \n08:30 – 08:45 l Evidências científicas sobre estilo de vida e recomendações para prevenção do câncer de mama\nDra. Carolina Argolo (BA) \n08:45 – 09:00 l Aconselhamento genético na prática\nDra. Renata Velame (BA) \n09:00 – 09:15 l Cirurgia mamária profilática – evidência científica X prática clínica\nDra. Ana Cláudia Imbassahy (BA) \n09:15 – 09:35 l Discussão\nDra. Marilia Sampaio (BA)\nDra. Carolina Argolo (BA)\nDra. Renata Velame (BA)\nDra. Ana Claudia Imbassahy (BA) \n09:35 – 10:05 l HER2+ TREAT – Pacientes Especiais: Como Tratar?\nSimpósio Satélite AstraZeneca\nDr. Cristiano Resende (DF) \n10:05 – 10:35 l Discussão de casos clínicos\nApresentador:\nDr. Cristiano Resende (DF) \nDebatedores:\nDr. Arthur Accioly (BA)\nDr. Daniel Argolo (BA)\nDr. Wiliam Fuzita (AM) \n10:35 – 11:05 l Papel do Anti-Trop2 no cenário do HER2- metastático\nSimpósio Satélite Gilead\nDra. Andreza Souto (DF) \nModeradora:\nDra. Geila Nuñez (BA) \nBloco 4\nChair: Dra. Geila Nuñez (BA) \n11:05 – 11:20 l Resistência à terapia endócrina na doença metastática – o que sabemos e como conduzir?\nDra. Joyce Lisboa (AL) \n11:20 – 11:35 l Sequenciamento – triplo negativo metastático\nDr. Rossano Araújo (PE) \n11:35 – 11:50 l Oncogeriatria no tratamento do câncer de mama\nDra. Janine Capobiango (SP) \n11:50 – 12:05 l Questões étnicas/raciais impactam na jornada do câncer de mama?\nDra. Ana Amélia Viana (BA) \n12:05 – 12:20 l Trabalho Autoral\nDra. Lilian Paz (BA) \n12:20 – 12:40 l Discussão\nDra. Geila Nuñez (BA)\nDra. Joyce Lisboa (AL)\nDr. Rossano Araújo (PE)\nDra. Janine Capobiango (SP)\nDra. Ana Amélia Viana (BA)\nDra. Lilian Paz (BA) \nDebatedora:\nDra. Maíra Tavares (BA) \n12:40 l Encerramento\nDra. Débora Gaudencio (BA)\nDr. Sandro Cavallero (PA)
URL:https://gonne.com.br/agenda/iv-simposio-mama-gonne/
LOCATION:Novotel Salvador\, Rua Monte Conselho\, 505\, Salvador\, BA\, Brazil
ATTACH;FMTTYPE=image/jpeg:https://gonne.com.br/wp-content/uploads/2024/11/Copia-de-IV-SIMPOSIO-MAMA-GONNE-SAVE-THE-DATE-1080-x-1080-px.jpg
END:VEVENT
BEGIN:VEVENT
DTSTART;VALUE=DATE:20241128
DTEND;VALUE=DATE:20241129
DTSTAMP:20260424T213705
CREATED:20241112T184644Z
LAST-MODIFIED:20241113T175401Z
UID:4332-1732752000-1732838399@gonne.com.br
SUMMARY:Skin GONNE express
DESCRIPTION:O Skin GONNE express é um evento presencial\, tem como propósito colaborar com a comunidade médica local interessada em Dermato Oncologia proporcionando um ambiente de revisão e atualização científica.\nO objetivo do evento é reunir médicos dermatologistas\, oncologistas e cirurgiões (oncológica\, plástica\, cabeça e pescoço) para uma discussão multidisciplinar das principais estratégias e evidências científicas relacionadas ao tratamento das neoplasias cutâneas.
URL:https://gonne.com.br/agenda/skin-gonne-express/
LOCATION:Bahia
ATTACH;FMTTYPE=image/jpeg:https://gonne.com.br/wp-content/uploads/2024/11/Copia-de-identidade-SKIN-GONNE-SITE-1080x1080-1.jpg
END:VEVENT
END:VCALENDAR