BEGIN:VCALENDAR
VERSION:2.0
PRODID:-//Gonne - ECPv6.15.1.1//NONSGML v1.0//EN
CALSCALE:GREGORIAN
METHOD:PUBLISH
X-ORIGINAL-URL:https://gonne.com.br
X-WR-CALDESC:Eventos para Gonne
REFRESH-INTERVAL;VALUE=DURATION:PT1H
X-Robots-Tag:noindex
X-PUBLISHED-TTL:PT1H
BEGIN:VTIMEZONE
TZID:UTC
BEGIN:STANDARD
TZOFFSETFROM:+0000
TZOFFSETTO:+0000
TZNAME:UTC
DTSTART:20250101T000000
END:STANDARD
END:VTIMEZONE
BEGIN:VEVENT
DTSTART;TZID=UTC:20250208T080000
DTEND;TZID=UTC:20250208T080000
DTSTAMP:20260424T162150
CREATED:20250129T181817Z
LAST-MODIFIED:20250129T184711Z
UID:4420-1739001600-1739001600@gonne.com.br
SUMMARY:Destaques ASCO GI 2025
DESCRIPTION:Acompanhe as últimas atualizações da ASCO GI 2025! Nosso evento reúne especialistas do Nordeste para compartilhar avanços em pesquisas\, tratamentos e inovações na área de oncologia gastrointestinal. \nDescubra os destaques das palestras\, painéis e estudos mais recentes que estão moldando o futuro do cuidado com pacientes. \nFique por dentro das tendências que fazem a diferença!
URL:https://gonne.com.br/agenda/destaques-asco-gi-2025/
LOCATION:Novotel Salvador\, Rua Monte Conselho\, 505\, Salvador\, BA\, Brazil
ATTACH;FMTTYPE=image/png:https://gonne.com.br/wp-content/uploads/2025/01/fullteste.png
END:VEVENT
END:VCALENDAR